BEGIN:VCALENDAR
PRODID:-//eluceo/ical//2.0/EN
VERSION:2.0
CALSCALE:GREGORIAN
BEGIN:VEVENT
UID:8df68af731ba1fd550ce2101e00612de
DTSTAMP:20260423T070739Z
SUMMARY:Interfatih Thanksgiving Service
DESCRIPTION:Jewish Federation of New Hampshire\nCommunity Calendar\nhttps:/
 /jewishnh.org/community-calendar/interfatih-thanksgiving\n\nEveryone is we
 lcome.
DTSTART;TZID=America/New_York:20191125T190000
DTEND;TZID=America/New_York:20191125T210000
END:VEVENT
END:VCALENDAR
