BEGIN:VCALENDAR
PRODID:-//eluceo/ical//2.0/EN
VERSION:2.0
CALSCALE:GREGORIAN
BEGIN:VEVENT
UID:d31446c0261d13872e01c7c02280bda9
DTSTAMP:20260424T001657Z
SUMMARY:The Intergenerational Consequences of the Holocaust
DESCRIPTION:Jewish Federation of New Hampshire\nCommunity Calendar\nhttps:/
 /jewishnh.org/community-calendar/intergenerational-consequences-of-genocid
 e\n\nIn commemoration of International Holocaust Remembrance Day\, JFNH’
 s Holocaust Survivors and Remembrance Committee will be hosting a panel di
 scussion and community chat on the impact of the Holocaust on the descenda
 nts of Holocaust survivors.\n\nAmong the questions to be addressed by our 
 panelists\, and by you\, are how the inheritance of persecution and genoci
 de impacts the lives of the descendants of Holocaust survivors\, and what 
 significance the intergenerational impacts have on society as ...
DTSTART;TZID=America/New_York:20230122T160000
DTEND;TZID=America/New_York:20230122T173000
END:VEVENT
END:VCALENDAR
