BEGIN:VCALENDAR
PRODID:-//eluceo/ical//2.0/EN
VERSION:2.0
CALSCALE:GREGORIAN
BEGIN:VEVENT
UID:45f0c33cdda8f7cb7375774b888d1be3
DTSTAMP:20260423T091533Z
SUMMARY:International Holocaust Remembrance Day Commemoration
DESCRIPTION:Jewish Federation of New Hampshire\nCommunity Calendar\nhttps:/
 /jewishnh.org/community-calendar/international-holocaust-remembrance-day-c
 ommemoration-2023\n\nJoin us for a Memorable International Holocaust Remem
 brance Day Commemoration\nTestimony by Lusia Milch\, Holocaust Survivor\nL
 essons of the Holocaust as a Cautionary Tale for Today\n\nThursday\, Janua
 ry 26\, 2023 on Zoom\n7:30 p.m. ET\n\nWelcome remarks by Miriam Asnes\, Se
 nior Advisor to the U.S. State Department Special Envoy\non Holocaust Issu
 es\n\nThe program is free\, and everyone is welcome.\nFor more information
 \, email sfeinstein@lappinfoundation.org.\n \n\nCommunity Partners\nADL N
 ew Eng...
DTSTART;TZID=America/New_York:20230126T193000
DTEND;TZID=America/New_York:20230126T210000
END:VEVENT
END:VCALENDAR
