BEGIN:VCALENDAR
PRODID:-//eluceo/ical//2.0/EN
VERSION:2.0
CALSCALE:GREGORIAN
BEGIN:VEVENT
UID:d893d33ab25a1bd7f5f8b4086a28c0f5
DTSTAMP:20260422T183048Z
SUMMARY:Interpreting the Sacred Texts with Emotion and Motion:
DESCRIPTION:Jewish Federation of New Hampshire\nCommunity Calendar\nhttps:/
 /jewishnh.org/community-calendar/interpreting-the-sacred-texts-with-emotio
 n-and-motion-1683151740\n\nYou are welcome to attend and participate in th
 is Interfaith Workshop entitled Interpreting the Sacred Texts with Emotion
  and Motion conducted by Sasha Soreff on the weekend of May 19-21\, 2023 a
 t the Derry Interfaith campus of Etz Hayim Synagogue and the Church of the
  Transfiguration. \nThe first part will be during Etz Hayim’s Friday nig
 ht services at 7:15 pm on May 19\, 2023. The Synagogue is  located at 1 ½
  Hood Road\, Derry\, NH. Sasha will offer a creative D’var Torah during 
 the service.
DTSTART;TZID=America/New_York:20230519T191500
DTEND;TZID=America/New_York:20230519T210000
END:VEVENT
END:VCALENDAR
