BEGIN:VCALENDAR
PRODID:-//eluceo/ical//2.0/EN
VERSION:2.0
CALSCALE:GREGORIAN
BEGIN:VEVENT
UID:d29ff14bb66c010d4ab56fb64b0714dc
DTSTAMP:20260422T044102Z
SUMMARY:Interpreting the Sacred Texts with Emotion and Motion:
DESCRIPTION:Jewish Federation of New Hampshire\nCommunity Calendar\nhttps:/
 /jewishnh.org/community-calendar/interpreting-the-sacred-texts-with-emotio
 n-and-motion-1683667412\n\nSasha Soreff combines emotion and movement to i
 nterpret the sacred texts of Judaism and Christianity\, creating a fun\, i
 nteractive space for congregants/parishioners to engage with spiritual tex
 ts and themes with movement-based story-telling. Sasha lives in New York C
 ity and is a Certified Resonant Healing Practitioner\, choreographer\, and
  dance teacher. The Interfaith exploration of connecting to the Divine has
  3 components:\n\nPart 2: Saturday\, May 20\, 2023\, 1:00 to 2:30 PM at Et
 z Hayim...
DTSTART;TZID=America/New_York:20230520T130000
DTEND;TZID=America/New_York:20230520T150000
END:VEVENT
END:VCALENDAR
