BEGIN:VCALENDAR
PRODID:-//eluceo/ical//2.0/EN
VERSION:2.0
CALSCALE:GREGORIAN
BEGIN:VEVENT
UID:598cfd7a1916622c85975c960af84f9b
DTSTAMP:20260422T170449Z
SUMMARY:Introduction to Jewish Genealogy using JewishGen and other resource
 s
DESCRIPTION:Jewish Federation of New Hampshire\nCommunity Calendar\nhttps:/
 /jewishnh.org/community-calendar/introduction-to-jewish-genealogy-using-je
 wishgen-and-other-resources-1668020506\n\nIntroduction to Jewish Genealogy
  using JewishGen and other resources presented by  Isabel Danforth. It is 
 at Etz Hayim Synagogue\,    1 ½ Hood Road\, Derry\, NH 03038 on Thursday\
 , December 8\, 20\,22 at 7 PM. She will demonstrate how to use JewishGen.o
 rg to get information about possible ancestors.  She will answer questions
  and will do a search for someone who is participating.  If time allows\, 
 we can also share results from some DNA-matching websites.
DTSTART;TZID=America/New_York:20221208T190000
DTEND;TZID=America/New_York:20221208T210000
END:VEVENT
END:VCALENDAR
