BEGIN:VCALENDAR
PRODID:-//eluceo/ical//2.0/EN
VERSION:2.0
CALSCALE:GREGORIAN
BEGIN:VEVENT
UID:925ee6ce77ede3eded6b88677f5eb5a5
DTSTAMP:20260422T155626Z
SUMMARY:IsraAid Speaker
DESCRIPTION:Jewish Federation of New Hampshire\nCommunity Calendar\nhttps:/
 /jewishnh.org/community-calendar/israaid-speaker\n\nIsraAID\, founded in 2
 001\, is a non-profit\, non-governmental organization committed to providi
 ng life-saving disaster relief and long-term support. The Israel Affairs C
 ommittee of Temple Israel\, Portsmouth will be hosting this event and is s
 upported in part by a mini-grant from Jewish Federation of New Hampshire.
DTSTART;TZID=America/New_York:20180415T140000
DTEND;TZID=America/New_York:20180415T160000
END:VEVENT
END:VCALENDAR
