BEGIN:VCALENDAR
PRODID:-//eluceo/ical//2.0/EN
VERSION:2.0
CALSCALE:GREGORIAN
BEGIN:VEVENT
UID:08fafa6bcc80891585d1bd2fce98e0b8
DTSTAMP:20260422T223352Z
SUMMARY:Israel From Day to Day: A Conversation with Dr. Stephanie Wolf-Rose
 nblum
DESCRIPTION:Jewish Federation of New Hampshire\nCommunity Calendar\nhttps:/
 /jewishnh.org/community-calendar/israel-from-day-to-day-a-conversation-wit
 h-dr-stephanie-wolf-rosenblum-1707416389\n\nTemple Beth Abraham member Dr.
  Stephanie Wolf-Rosenblum lives much of the year in Jerusalem\, along with
  her family — her husband Mike as well as one of her daughters and their
  family. She has been in Israel for the past couple of months of the war t
 hat began on October 7. We’ll hear from Stephanie about what daily life 
 is like for her and the family\, as well as some of her perspectives as a 
 volunteer\, a medical professional\, and someone who has access to both Is
 raeli and Western news sour...
DTSTART;TZID=America/New_York:20240221T200000
DTEND;TZID=America/New_York:20240221T210000
END:VEVENT
END:VCALENDAR
