BEGIN:VCALENDAR
PRODID:-//eluceo/ical//2.0/EN
VERSION:2.0
CALSCALE:GREGORIAN
BEGIN:VEVENT
UID:e8a382bfcc8cab9ac3a2e6192c5a92b1
DTSTAMP:20260424T070159Z
SUMMARY:JFNH Shaliach presents Israel Insider - Sigd
DESCRIPTION:Jewish Federation of New Hampshire\nCommunity Calendar\nhttps:/
 /jewishnh.org/community-calendar/israel-insider-sigd\n\nThe very successfu
 l Monday morning Shlichut program "Israel Report" is coming back\, this 
 time with a new name: "Israeli Insider"!\n\nOn November 13th\, in honor of
  the holiday of Sigd - our first topic will discuss the Jewish Ethiopian 
 community!\nStarting at 11am.\n\nJoin JFNH Shaliach Guy Ben David the seco
 nd Monday of each month to explore different Israeli topics. \n\nEmail Sh
 aliach Guy Ben David to sign up shaliach@jewishnh.org or call the JFNH off
 ice at 603-627-7679
DTSTART;TZID=America/New_York:20231113T110000
DTEND;TZID=America/New_York:20231113T123000
END:VEVENT
END:VCALENDAR
