BEGIN:VCALENDAR
PRODID:-//eluceo/ical//2.0/EN
VERSION:2.0
CALSCALE:GREGORIAN
BEGIN:VEVENT
UID:619f6cf73c66f22b16cc2166d03ff0d5
DTSTAMP:20260423T024214Z
SUMMARY:Israel-Palestine: A Palestinian Perspective\, with speaker Ghaith a
 l-Omari
DESCRIPTION:Jewish Federation of New Hampshire\nCommunity Calendar\nhttps:/
 /jewishnh.org/community-calendar/israel-palestine-a-palestinian-perspectiv
 e-with-speaker-ghaith-al-omari-1643996008\n\nAbout the speaker: Mr. al-Oma
 ri is a Senior Fellow at the Washington Institute for Near East Policy and
  the former Executive Director of the American Task Force on Palestine. \n
 \nHe served as advisor to the negotiating team during the 1999-2001 perman
 ent-status talks as well as participating in the Camp David summit and the
  Taba talks.  In addition\, he held various other positions within the Pal
 estinian Authority. He was the lead Palestinian drafter of the Geneva Init
 iative\, an unofficial...
DTSTART;TZID=America/New_York:20220213T103000
DTEND;TZID=America/New_York:20220213T120000
END:VEVENT
END:VCALENDAR
