BEGIN:VCALENDAR
PRODID:-//eluceo/ical//2.0/EN
VERSION:2.0
CALSCALE:GREGORIAN
BEGIN:VEVENT
UID:edbc23bf32b8c02b11bb2128586b66d1
DTSTAMP:20260426T014015Z
SUMMARY:Israel report with Ra'anan
DESCRIPTION:Jewish Federation of New Hampshire\nCommunity Calendar\nhttps:/
 /jewishnh.org/community-calendar/israel-report-with-raanan\n\nJoin JFNH Sh
 aliach Ra'anan deHaas to go over news in Israel.\n\nFirst meetup on June 2
 7th!\nTime: 11AM and will be an hour long. \nLocation: JFNH office-273 S 
 River Rd. Bedford\n\nAt this time there will be no hybrid option for these
  sessions.
DTSTART;TZID=America/New_York:20220627T110000
DTEND;TZID=America/New_York:20220627T120000
END:VEVENT
END:VCALENDAR
