BEGIN:VCALENDAR
PRODID:-//eluceo/ical//2.0/EN
VERSION:2.0
CALSCALE:GREGORIAN
BEGIN:VEVENT
UID:56fbe8e13267dd234e733f10f47afe2c
DTSTAMP:20260423T053947Z
SUMMARY:Israel report with Ra'anan
DESCRIPTION:Jewish Federation of New Hampshire\nCommunity Calendar\nhttps:/
 /jewishnh.org/community-calendar/israel-report-with-raanan-2\n\nJoin JFNH 
 Shaliach Ra'anan deHaas to go over news in Israel.\n\nTime: 11:00AM -12:30
 PM\nLocation: JFNH office-273 S River Rd. Bedford
DTSTART;TZID=America/New_York:20220725T110000
DTEND;TZID=America/New_York:20220725T123000
END:VEVENT
END:VCALENDAR
