BEGIN:VCALENDAR
PRODID:-//eluceo/ical//2.0/EN
VERSION:2.0
CALSCALE:GREGORIAN
BEGIN:VEVENT
UID:d814723ae95df595e5e7b7dd97cdc2b9
DTSTAMP:20260422T144157Z
SUMMARY:Israel report with Ra'anan
DESCRIPTION:Jewish Federation of New Hampshire\nCommunity Calendar\nhttps:/
 /jewishnh.org/community-calendar/israel-report-with-raanan-4\n\nJoin JFNH 
 Shaliach Ra'anan deHaas to go over news in Israel.\n\nTime: 11:00AM -12:30
 PM\nLocation: JFNH office-273 S River Rd. Bedford
DTSTART;TZID=America/New_York:20220919T110000
DTEND;TZID=America/New_York:20220919T123000
END:VEVENT
END:VCALENDAR
