BEGIN:VCALENDAR
PRODID:-//eluceo/ical//2.0/EN
VERSION:2.0
CALSCALE:GREGORIAN
BEGIN:VEVENT
UID:341697225e6bcf168effbcdcf9d978e4
DTSTAMP:20260422T100115Z
SUMMARY:Israel report with Ra'anan
DESCRIPTION:Jewish Federation of New Hampshire\nCommunity Calendar\nhttps:/
 /jewishnh.org/community-calendar/israel-report-with-raanan-5\n\nJoin JFNH 
 Shaliach Ra'anan deHaas to go over news in Israel.\n\nTime: 11:00AM -12:30
 PM\nLocation: JFNH office-273 S River Rd. Bedford
DTSTART;TZID=America/New_York:20221024T110000
DTEND;TZID=America/New_York:20221024T123000
END:VEVENT
END:VCALENDAR
