BEGIN:VCALENDAR
PRODID:-//eluceo/ical//2.0/EN
VERSION:2.0
CALSCALE:GREGORIAN
BEGIN:VEVENT
UID:48e80070e6d6341ec169dbbf5861fc5e
DTSTAMP:20260425T231029Z
SUMMARY:The Story of Israel's Olympic Bobsled & Skeleton Team
DESCRIPTION:Jewish Federation of New Hampshire\nCommunity Calendar\nhttps:/
 /jewishnh.org/community-calendar/israeli-bobsled-speak-event\n\nJoin us an
 d meet David Greaves and Larry Sidney to hear the incredible and unlikely 
 story of Israel’s Bobsled and Skeleton Team.\n\nBobsleigh Skeleton Israe
 l (BSI) National Sports Federation of Israel was originally Israel’s Bob
 sled Team in 2002 when three American Jews decided to represent Israel in 
 winter sliding sports. The three made Aliyah\, exceeded all expectations a
 nd qualified Israel for two World Championships.\n\nThrough passion and de
 dication\, Israel qualified her first skeleto...
DTSTART;TZID=America/New_York:20210321T190000
DTEND;TZID=America/New_York:20210321T210000
END:VEVENT
END:VCALENDAR
