BEGIN:VCALENDAR
PRODID:-//eluceo/ical//2.0/EN
VERSION:2.0
CALSCALE:GREGORIAN
BEGIN:VEVENT
UID:eca8e4b3b98d29ed2575e5cc8c06c51a
DTSTAMP:20260424T123928Z
SUMMARY:CANCELLED: Yom Ha'Atzmaut  community celebration
DESCRIPTION:Jewish Federation of New Hampshire\nCommunity Calendar\nhttps:/
 /jewishnh.org/community-calendar/israeli-celebration-community-picnic\n\nT
 HIS EVENT HAS BEEN CANCELLED DUE TO THE WEATHER.\n\nCelebrate Yom Ha'Atzma
 ut with JFNH! \n\nJoin us for an afternoon of fun\, family-friendly activ
 ities. Learn about Israel while playing with robots\, taking a pony or tra
 ctor ride\, playing Israeli board games\, music\, dance\, crafts\, face pa
 inting and more!\n\nMay 15th\, 2-4PM\n*Registration required.\n*In Goffsto
 wn\, exact location will be emailed with your registration.\n\nThis progra
 m is part of a series of statewide online and in person event...
DTSTART;TZID=America/New_York:20220515T140000
DTEND;TZID=America/New_York:20220515T160000
END:VEVENT
END:VCALENDAR
