BEGIN:VCALENDAR
PRODID:-//eluceo/ical//2.0/EN
VERSION:2.0
CALSCALE:GREGORIAN
BEGIN:VEVENT
UID:884382a73162b0f34b92458bc35105bf
DTSTAMP:20260422T145151Z
SUMMARY:Israeli Comfort Food Cooking Class & Brunch
DESCRIPTION:Jewish Federation of New Hampshire\nCommunity Calendar\nhttps:/
 /jewishnh.org/community-calendar/israeli-comfort-food-cooking-class-brunch
 \n\nJoin Shaliach Guy Ben David for a special Israel-themed cooking class 
 followed by brunch! \n\nTogether make falafel\, Israeli salad\, hummus an
 d pita - plus limonana and limonaraq. Then enjoy company and a good meal.
 \n\n\nSunday\, December 10th\, 2023\,10am \n\nHome-Hosted\, Durham\, NH\n
 Address sent to Registered Guests. \n\n\n$10/person. Please register by D
 ecember 3rd. Registration limited.
DTSTART;TZID=America/New_York:20231210T100000
DTEND;TZID=America/New_York:20231210T120000
END:VEVENT
END:VCALENDAR
