BEGIN:VCALENDAR
PRODID:-//eluceo/ical//2.0/EN
VERSION:2.0
CALSCALE:GREGORIAN
BEGIN:VEVENT
UID:e0f3e680f51ab1be23662fde08bf34cf
DTSTAMP:20260422T065507Z
SUMMARY:Israeli Folk Dance Club
DESCRIPTION:Jewish Federation of New Hampshire\nCommunity Calendar\nhttps:/
 /jewishnh.org/community-calendar/israeli-folk-dance-club-1560361381\n\nPle
 ase join us in Temple Israel Portsmouth's Social Hall. All are welcome to 
 come and learn Israeli folk dances.\nGroup leaders: July 7\, Richard Colli
 er\, Shelly Brass\nJuly 21: Lessa Brill.\nAugust 4: Richard Collier\, Shel
 ly Brass.\nAugust 18: Lessa Brill
DTSTART;TZID=America/New_York:20190707T160000
DTEND;TZID=America/New_York:20190707T180000
END:VEVENT
END:VCALENDAR
