BEGIN:VCALENDAR
PRODID:-//eluceo/ical//2.0/EN
VERSION:2.0
CALSCALE:GREGORIAN
BEGIN:VEVENT
UID:70f94674a77a32e93a80721d80a7dcc6
DTSTAMP:20260423T150025Z
SUMMARY:Israeli Insider - Bedouins
DESCRIPTION:Jewish Federation of New Hampshire\nCommunity Calendar\nhttps:/
 /jewishnh.org/community-calendar/israeli-insider-bedouins\n\nJoin JFNH Sha
 liach Guy Ben David the second Monday of each month to discuss about diffe
 rent topics in Israel.\n \n\nFourth meetup: February 12th\, we will discu
 ss about the Bedouin society in Israel\nTime: 11AM and will be an hour and
  a half long.\nLocation: JFNH office - 273 S River Rd.\, Bedford\n\nAt thi
 s time there will be no hybrid option for these sessions.
DTSTART;TZID=America/New_York:20240212T110000
DTEND;TZID=America/New_York:20240212T123000
END:VEVENT
END:VCALENDAR
