BEGIN:VCALENDAR
PRODID:-//eluceo/ical//2.0/EN
VERSION:2.0
CALSCALE:GREGORIAN
BEGIN:VEVENT
UID:594df43e8261a4442c60cd0765ef29cf
DTSTAMP:20260422T082000Z
SUMMARY:Israeli Music with Shlicha Avia Sagron
DESCRIPTION:Jewish Federation of New Hampshire\nCommunity Calendar\nhttps:/
 /jewishnh.org/community-calendar/israeli-music-with-shlicha-avia-sagron\n\
 nJoin New Hampshire Shlicha Avia Sagron for the last presentation of her 
 Shlichut. Avia will lead us on the Israeli musical path from 1948 until 
 today and how it reflects the Israeli community!
DTSTART;TZID=America/New_York:20210714T190000
DTEND;TZID=America/New_York:20210714T210000
END:VEVENT
END:VCALENDAR
