BEGIN:VCALENDAR
PRODID:-//eluceo/ical//2.0/EN
VERSION:2.0
CALSCALE:GREGORIAN
BEGIN:VEVENT
UID:5c9a41c915692576c8813e97ad28d2d6
DTSTAMP:20260423T223051Z
SUMMARY:Israeli Naval  Operations presented by Ra’anan de Haas
DESCRIPTION:Jewish Federation of New Hampshire\nCommunity Calendar\nhttps:/
 /jewishnh.org/community-calendar/israeli-naval--operations-presented-by-ra
 anan-de-haas-1650374661\n\nIsraeli Naval  Operations As De Haas says\, I 
 “ will share with you 4 Naval operations throughout Israeli history that
  are bold\, strategic and pretty crazy”.  He will do so from his backgro
 und as an  Israeli naval officer.  He adds\, ’ll talk about how the Isra
 eli navy is built and share cool navy operations in Israel’s history.”
DTSTART;TZID=America/New_York:20220512T190000
DTEND;TZID=America/New_York:20220512T210000
END:VEVENT
END:VCALENDAR
