BEGIN:VCALENDAR
PRODID:-//eluceo/ical//2.0/EN
VERSION:2.0
CALSCALE:GREGORIAN
BEGIN:VEVENT
UID:3479567662ed868f6f9b5fe8e1d3ee1e
DTSTAMP:20260422T160316Z
SUMMARY:"Israeli Naval Operations"
DESCRIPTION:Jewish Federation of New Hampshire\nCommunity Calendar\nhttps:/
 /jewishnh.org/community-calendar/israeli-naval-operations-1633830650\n\nAs
  a Lieutenant in the Israeli Navy\, Ra’anan served as a Naval Tactical C
 ontrol Officer in the Israeli Army during the “Protective Edge” and 
 “Pillar of Defense” operations.  “Israeli Naval Operations” will e
 xamine 4 separate Naval Operations throughout Israeli history that were bo
 ld\, strategic and pretty crazy.  Ra’anan’s presentation will be follo
 wed by an open question and answer session.
DTSTART;TZID=America/New_York:20211121T140000
DTEND;TZID=America/New_York:20211121T160000
END:VEVENT
END:VCALENDAR
