BEGIN:VCALENDAR
PRODID:-//eluceo/ical//2.0/EN
VERSION:2.0
CALSCALE:GREGORIAN
BEGIN:VEVENT
UID:d2ece235e8d9310fcd2fac73336cbea3
DTSTAMP:20260425T133250Z
SUMMARY:Israeli Virtual Tour: The Israeli Education System
DESCRIPTION:Jewish Federation of New Hampshire\nCommunity Calendar\nhttps:/
 /jewishnh.org/community-calendar/israeli-virtual-tour\n\nLearn about high 
 schools in Israel from a vice principal of a Tel Aviv school. Then join th
 e JFNH on a virtual tour of 3 university campuses in Israel\, brought to y
 ou by Israeli students and followed by a discussion panel.\n\nRegister to 
 receive Zoom information.
DTSTART;TZID=America/New_York:20220220T130000
DTEND;TZID=America/New_York:20220220T150000
END:VEVENT
END:VCALENDAR
