BEGIN:VCALENDAR
PRODID:-//eluceo/ical//2.0/EN
VERSION:2.0
CALSCALE:GREGORIAN
BEGIN:VEVENT
UID:58c7ddde1cc92302bd1ec6e50cd44deb
DTSTAMP:20260422T030206Z
SUMMARY:Israel's Milestones and Their Meanings
DESCRIPTION:Jewish Federation of New Hampshire\nCommunity Calendar\nhttps:/
 /jewishnh.org/community-calendar/israels-milestones-and-their-meanings-163
 1293950\n\nThe classes will include video lectures from leading Israeli sc
 holars\, text study and discussion. We hope to meet in person and via Zoom
 . The class will meet on Sunday mornings\, 10:30 - noon on: 10/17\, 10/31\
 , 11/14\, 12/12\, 12/19\, 1/9\, 1/23\, 2/6. Please register on the temple 
 website calendar for more information and to receive class links and mater
 ials.\n\nClass topics are as follows:\nUnit 1: 1917 – The Balfour Declar
 ation: The Idea of a Homeland for the Jewish People \nUnit 2: 1947 –...
DTSTART;TZID=America/New_York:20211017T103000
DTEND;TZID=America/New_York:20211017T120000
END:VEVENT
END:VCALENDAR
