BEGIN:VCALENDAR
PRODID:-//eluceo/ical//2.0/EN
VERSION:2.0
CALSCALE:GREGORIAN
BEGIN:VEVENT
UID:5068da025097408a4c078aefba8e86ac
DTSTAMP:20260423T120819Z
SUMMARY:Jacob Reuven & The Be'er Sheva Mandolin Quartet in Concert
DESCRIPTION:Jewish Federation of New Hampshire\nCommunity Calendar\nhttps:/
 /jewishnh.org/community-calendar/jacob-reuven-the-beer-sheva-mandolin-quar
 tet-in-concert\n\n Tickets are $18 with proceeds to benefit the Be'er She
 va Music Conservatory. This will be an afternoon of mandolin quartet music
  performed by Jacob Reuven\, director of the B'er Sheva Music Conservatory
  and 3 of his outstanding mandolin graduates. The will be special guests N
 ew Hampshire's own August Watters (founder of the New England Mandolin Ens
 emble and former professor at Berklee College of Music) and Noam Wolf NH S
 hlicha will also perform!\nThis program is part of the season-long celeb..
 .
DTSTART;TZID=America/New_York:20180729T160000
DTEND;TZID=America/New_York:20180729T180000
END:VEVENT
END:VCALENDAR
