BEGIN:VCALENDAR
PRODID:-//eluceo/ical//2.0/EN
VERSION:2.0
CALSCALE:GREGORIAN
BEGIN:VEVENT
UID:d9280b2ae81cefc98b5e0b1fe5ebbe47
DTSTAMP:20260422T171249Z
SUMMARY:JamJews Presents: Stories of Shushan
DESCRIPTION:Jewish Federation of New Hampshire\nCommunity Calendar\nhttps:/
 /jewishnh.org/community-calendar/jamjews-presents-stories-of-shushan-16433
 09287\n\nJamJews Presents: Stories of Shushan - A Boozy Sassy retelling of
  the Book of Esther\, with traditional and fresh Purim music from the JamJ
 ews House Band and Improv storytelling. Think "Drunk History" show Purim s
 tyle! This event is open to everyone 18+. Costumes are welcome! Tickets ar
 e $10 and can be purchased online or at the door.\nJamJews is a pluralist 
 Jewish community without walls that focuses on bringing unique musical exp
 eriences to its viewers\, and democratizing music and song leadi...
DTSTART;TZID=America/New_York:20220316T200000
DTEND;TZID=America/New_York:20220316T223000
END:VEVENT
END:VCALENDAR
