BEGIN:VCALENDAR
PRODID:-//eluceo/ical//2.0/EN
VERSION:2.0
CALSCALE:GREGORIAN
BEGIN:VEVENT
UID:6714559716556db51532c40c749dd9e8
DTSTAMP:20260422T183018Z
SUMMARY:jBaby New Hampshire December Playgroup
DESCRIPTION:Jewish Federation of New Hampshire\nCommunity Calendar\nhttps:/
 /jewishnh.org/community-calendar/jbaby-new-hampshire-december-playgroup\n\
 nMeet other families with young children and grow your community!\n\nBe a 
 part of our monthly playgroup!\n\nOpen to families with children 0-2. Sibl
 ings are welcome!\n.......\nSunday\, December 5th ~ 3PM\nThis month our pl
 aygroup will be meeting at the Ann DeNicola Playground in Bedford\n\nConta
 ct Allyson at allyson.guertin@jewishnh.org or 603-627-7679 with questions
DTSTART;TZID=America/New_York:20211205T150000
DTEND;TZID=America/New_York:20211205T160000
END:VEVENT
END:VCALENDAR
