BEGIN:VCALENDAR
PRODID:-//eluceo/ical//2.0/EN
VERSION:2.0
CALSCALE:GREGORIAN
BEGIN:VEVENT
UID:e1f24b5a37b4fd5e56691bb50c9f3321
DTSTAMP:20260423T142229Z
SUMMARY:VT Jewish Teen Retreat
DESCRIPTION:Jewish Federation of New Hampshire\nCommunity Calendar\nhttps:/
 /jewishnh.org/community-calendar/jcvt-teen\n\nJoin us for this overnight e
 xperience designed to create social connections while pushing teens to exp
 lore and develop Jewish character traits.    The retreat will take place
  at Living Tree Alliance Retreat Center and involve community service on t
 he farm\, growing food for the food bank\, and planting a tree in the Tree
  of Life Orchard.   Youth will celebrate bake challah\, make Havdalah can
 dles\, and share stories and songs by the bonfire.  Ping Pong\, foosball\
 , and ample board games will ke...
DTSTART;TZID=America/New_York:20220827T160000
DTEND;TZID=America/New_York:20220828T160000
END:VEVENT
END:VCALENDAR
