BEGIN:VCALENDAR
PRODID:-//eluceo/ical//2.0/EN
VERSION:2.0
CALSCALE:GREGORIAN
BEGIN:VEVENT
UID:20b913e2258dc9e9f9b2b5cf48aa446a
DTSTAMP:20260422T135833Z
SUMMARY:Jerusalem Live - A Zoom Guided Tour
DESCRIPTION:Jewish Federation of New Hampshire\nCommunity Calendar\nhttps:/
 /jewishnh.org/community-calendar/jerusalem-live---a-zoom-guided-tour-15968
 18023\n\nTemple Beth Abraham\, in conjunction with StandWithUs\, is please
 d to invite you to a LIVE and INTERACTIVE sunset tour of the old city of J
 erusalem from the comfort of your own home.\n\nJoin our exclusive hour-lon
 g tour as it is broadcast LIVE from the holy city in real time and with ou
 r own private guide. Our tour will visit several sites and will be led by 
 Yoni Zierler\, a master tour guide whose live tours on Facebook have been 
 enjoyed by hundreds of thousands of viewers.\n\nBecause our tour ...
DTSTART;TZID=America/New_York:20200830T120000
DTEND;TZID=America/New_York:20200830T130000
END:VEVENT
END:VCALENDAR
