BEGIN:VCALENDAR
PRODID:-//eluceo/ical//2.0/EN
VERSION:2.0
CALSCALE:GREGORIAN
BEGIN:VEVENT
UID:c7191f42e4604d258bb54d6b6e07669f
DTSTAMP:20260423T103158Z
SUMMARY:Jewish Education Center of Nashua Opening Day
DESCRIPTION:Jewish Federation of New Hampshire\nCommunity Calendar\nhttps:/
 /jewishnh.org/community-calendar/jewish-education-center-of-nashua-opening
 -day-1662560996\n\nFirst day of our education program for the 2022-2023 ye
 ar ages 3-12! For more information about our various programs and to regis
 ter: https://www.tbanashua.org/learn/children-youth-education/
DTSTART;TZID=America/New_York:20220918T093000
DTEND;TZID=America/New_York:20220918T120000
END:VEVENT
END:VCALENDAR
