BEGIN:VCALENDAR
PRODID:-//eluceo/ical//2.0/EN
VERSION:2.0
CALSCALE:GREGORIAN
BEGIN:VEVENT
UID:fb692b29a765cdc75853068e8b1457ec
DTSTAMP:20260422T070848Z
SUMMARY:Jewish Federation of New Hampshire's Super Sunday
DESCRIPTION:Jewish Federation of New Hampshire\nCommunity Calendar\nhttps:/
 /jewishnh.org/community-calendar/jewish-federation-of-new-hampshires-super
 -sunday\n\nMore information coming soon!
DTSTART;TZID=America/New_York:20221211T100000
DTEND;TZID=America/New_York:20221211T160000
END:VEVENT
END:VCALENDAR
