BEGIN:VCALENDAR
PRODID:-//eluceo/ical//2.0/EN
VERSION:2.0
CALSCALE:GREGORIAN
BEGIN:VEVENT
UID:b164e0970ede4df1bd6fbcabeb57cded
DTSTAMP:20260423T055520Z
SUMMARY:Jewish Federation Preschool Grandparent Celebration
DESCRIPTION:Jewish Federation of New Hampshire\nCommunity Calendar\nhttps:/
 /jewishnh.org/community-calendar/jewish-federation-preschool-grandparent-c
 elebration\n\nThe JFNH Preschoolers invite their grandparent's (and caregi
 vers) to celebrate together with a special morning filled with projects a
 nd snacks.\n\nCome see the art work each child has created. Hear about wha
 t they are learning and share this special time together.
DTSTART;TZID=America/New_York:20181120T103000
DTEND;TZID=America/New_York:20181120T123000
END:VEVENT
END:VCALENDAR
