BEGIN:VCALENDAR
PRODID:-//eluceo/ical//2.0/EN
VERSION:2.0
CALSCALE:GREGORIAN
BEGIN:VEVENT
UID:48018ae3672610b55e6d5ad137e314fa
DTSTAMP:20260423T114904Z
SUMMARY:Jewish History of Manchester\, by John Clayton\, Historian
DESCRIPTION:Jewish Federation of New Hampshire\nCommunity Calendar\nhttps:/
 /jewishnh.org/community-calendar/jewish-history-of-manchester-by-john-clay
 ton-historian-1578476928\n\n“Jewish History of Manchester” will be pre
 sented by local historian John Clayton at the Manchester Millyard Museum. 
 The free public event seeks to engage the community in discussions and lea
 rning about the history\, contributions and presence of the Jewish Communi
 ty in Manchester and New Hampshire.
DTSTART;TZID=America/New_York:20200202T130000
DTEND;TZID=America/New_York:20200202T150000
END:VEVENT
END:VCALENDAR
