BEGIN:VCALENDAR
PRODID:-//eluceo/ical//2.0/EN
VERSION:2.0
CALSCALE:GREGORIAN
BEGIN:VEVENT
UID:a7ea9262a79a63cc7b467c2417fa6620
DTSTAMP:20260422T083011Z
SUMMARY:Jewish National Fund-USA 2022 National Conference
DESCRIPTION:Jewish Federation of New Hampshire\nCommunity Calendar\nhttps:/
 /jewishnh.org/community-calendar/jewish-national-fund-usa-2022-national-co
 nference-1656087994\n\nhttps://www.jnf.org/visit-israel/tours/national-con
 ference-in-boston 
DTSTART;TZID=America/New_York:20221104T090000
DTEND;TZID=America/New_York:20221106T220000
END:VEVENT
END:VCALENDAR
