BEGIN:VCALENDAR
PRODID:-//eluceo/ical//2.0/EN
VERSION:2.0
CALSCALE:GREGORIAN
BEGIN:VEVENT
UID:a4db8f2f9d31dd09ecb49e60abd5a696
DTSTAMP:20260423T041754Z
SUMMARY:Jewish New Year Celebration for Families and Tots
DESCRIPTION:Jewish Federation of New Hampshire\nCommunity Calendar\nhttps:/
 /jewishnh.org/community-calendar/jewish-new-year-celebration-for-families-
 and-tots\n\nJoin us for a Jewish New Year Celebration for Families and Tot
 s\n\nLive music\, apple picking\, donuts\, and cider!\n\nMade possible by 
 the generous grant from the Covenant Foundation and Jewish Communities of 
 Vermont.
DTSTART;TZID=America/New_York:20220910T100000
DTEND;TZID=America/New_York:20220910T111500
END:VEVENT
END:VCALENDAR
