BEGIN:VCALENDAR
PRODID:-//eluceo/ical//2.0/EN
VERSION:2.0
CALSCALE:GREGORIAN
BEGIN:VEVENT
UID:dfbff2b666e7f7ef7722595766beaafe
DTSTAMP:20260422T044022Z
SUMMARY:Jewish Poetry as a Path to Prayer
DESCRIPTION:Jewish Federation of New Hampshire\nCommunity Calendar\nhttps:/
 /jewishnh.org/community-calendar/jewish-poetry-as-a-path-to-prayer\n\nJewi
 sh Poetry as a Path to Prayer\n6:30 PM\, Temple Israel\, Portsmouth\n\nMar
 y Anker and John Englander will lead this workshop exploring the relations
 hip between prayer and poetry. Sources will vary and will include the sidd
 ur. Mary is an English teacher and performing poet. John is an educator an
 d singer/songwriter who will play his guitar to enhance our understanding 
 of words and their potential depth. Two free sessions\, take either or bot
 h. Workshop size limited to eighteen participants. P...
DTSTART;TZID=America/New_York:20180416T183000
DTEND;TZID=America/New_York:20180416T203000
END:VEVENT
END:VCALENDAR
