BEGIN:VCALENDAR
PRODID:-//eluceo/ical//2.0/EN
VERSION:2.0
CALSCALE:GREGORIAN
BEGIN:VEVENT
UID:054d0adbe4f45073dbe2ed74633e5ea5
DTSTAMP:20260422T094820Z
SUMMARY:Jewish Resistance during the Holocaust
DESCRIPTION:Jewish Federation of New Hampshire\nCommunity Calendar\nhttps:/
 /jewishnh.org/community-calendar/jewish-resistance-during-the-holocaust-16
 76215152\n\nLou Yelgin is a child of Holocaust survivors.  His parents sur
 vived the Nazis as members of a partisan resistance group in the Nacha For
 est near Eishyshok\, Lithuania.  Lou is a Keene State College Cohen Center
  Fellow who graduated from KSC’s Summer Institute and Advanced Seminars 
 on Holocaust and Genocide Studies.  Recently Lou taught a class on Jewish 
 Resistance at Keene State College and has presented on the Holocaust at nu
 merous high schools and middle schools throughout New England. ...
DTSTART;TZID=America/New_York:20230219T090000
DTEND;TZID=America/New_York:20230219T110000
END:VEVENT
END:VCALENDAR
