BEGIN:VCALENDAR
PRODID:-//eluceo/ical//2.0/EN
VERSION:2.0
CALSCALE:GREGORIAN
BEGIN:VEVENT
UID:1407febd08eef1e2c7ee540ae4751640
DTSTAMP:20260422T182639Z
SUMMARY:Jewish Teen Retreat
DESCRIPTION:Jewish Federation of New Hampshire\nCommunity Calendar\nhttps:/
 /jewishnh.org/community-calendar/jewish-teen-retreat\n\nSAVE THE DATE  Br
 attleboro Jewish Spring Retreat Canoeing\, Cooking Israeli Food and Making
  a Pizza Oven Ages 12-18 \n\nFor teens seeking hands-on experiences with 
 other teens\, don't miss out on this spring weekend of canoeing\, cooking\
 , building and music. \n\nThis retreat will use outdoor reflection\, musi
 c\, and conversation to explore the seventh week of the Omer.  
DTSTART;TZID=America/New_York:20230520T143000
DTEND;TZID=America/New_York:20230521T133000
END:VEVENT
END:VCALENDAR
