BEGIN:VCALENDAR
PRODID:-//eluceo/ical//2.0/EN
VERSION:2.0
CALSCALE:GREGORIAN
BEGIN:VEVENT
UID:1d997e5abdbf253e2e15f85a9f5c129d
DTSTAMP:20260423T073210Z
SUMMARY:Jews and Baseball: An American Love Story The Film
DESCRIPTION:Jewish Federation of New Hampshire\nCommunity Calendar\nhttps:/
 /jewishnh.org/community-calendar/jews-and-baseball-an-american-love-story-
 the-film-1678667512\n\nWith the cry of “Play ball!” across the United 
 States\, what better way to observe the national pastime than to come to E
 tz Hayim to watch the movie\, Jews and Baseball: An American Love Story\, 
 narrated by Dustin Hoffman at 7 PM Thursday\, April 13\, 2023. Just in tim
 e for the opening of the baseball season and our eternal hopes for the Bos
 ton Red Sox\, it shows the stories of Hank Greenberg and Sandy Koufax. And
 \, it includes our beloved Kevin Youkilis.  Be there for the first pitch a
 nd first...
DTSTART;TZID=America/New_York:20230413T190000
DTEND;TZID=America/New_York:20230413T210000
END:VEVENT
END:VCALENDAR
