BEGIN:VCALENDAR
PRODID:-//eluceo/ical//2.0/EN
VERSION:2.0
CALSCALE:GREGORIAN
BEGIN:VEVENT
UID:26742b1b96af7bb476aab54a6825533d
DTSTAMP:20260423T061626Z
SUMMARY:“Jews on Broadway”
DESCRIPTION:Jewish Federation of New Hampshire\nCommunity Calendar\nhttps:/
 /jewishnh.org/community-calendar/jews-on-broadway-1574726805\n\nDavid Hirs
 ch presents how everybody knows that most of the great Broadway songwriter
 s were Jewish. But what\, if anything\, was Jewish about their words and m
 usic? Learn about the “Jewish Scale\,” ambivalence in song\, angliciza
 tion\, and the curious quasi-Jewishness of Cole Porter in this investigati
 on of our people’s greatest contribution to American music.David Hirsch 
 has played bass in klezmer bands and the Portsmouth Symphony\, sung Yiddis
 h song recitals\, acted in semi-pro musical theate...
DTSTART;TZID=America/New_York:20200126T100000
DTEND;TZID=America/New_York:20200126T120000
END:VEVENT
END:VCALENDAR
