BEGIN:VCALENDAR
PRODID:-//eluceo/ical//2.0/EN
VERSION:2.0
CALSCALE:GREGORIAN
BEGIN:VEVENT
UID:86649d4815c91ea96568be522853f7b5
DTSTAMP:20260422T102739Z
SUMMARY:JFNH Annual Meeting
DESCRIPTION:Jewish Federation of New Hampshire\nCommunity Calendar\nhttps:/
 /jewishnh.org/community-calendar/jfnh-annual-meeting\n\nJFNH Annual Meetin
 g and Shem Tov Awards
DTSTART;TZID=America/New_York:20170910T000000
DTEND;TZID=America/New_York:20170910T000000
END:VEVENT
END:VCALENDAR
