BEGIN:VCALENDAR
PRODID:-//eluceo/ical//2.0/EN
VERSION:2.0
CALSCALE:GREGORIAN
BEGIN:VEVENT
UID:18ff3eaf2e16265cab0805ca5abf8ec3
DTSTAMP:20260423T045245Z
SUMMARY:JFNH Annual Meeting 2021
DESCRIPTION:Jewish Federation of New Hampshire\nCommunity Calendar\nhttps:/
 /jewishnh.org/community-calendar/jfnh-annual-meeting-2021\n\nSave the date
  for the JFNH Annual Meeting. Virtual again this year.\n\nMore info coming
  soon.
DTSTART;TZID=America/New_York:20210829T110000
DTEND;TZID=America/New_York:20210829T130000
END:VEVENT
END:VCALENDAR
