BEGIN:VCALENDAR
PRODID:-//eluceo/ical//2.0/EN
VERSION:2.0
CALSCALE:GREGORIAN
BEGIN:VEVENT
UID:e40078d616323193c8b253ed4c7b7e1c
DTSTAMP:20260423T151507Z
SUMMARY:JFNH Annual Meeting -Virtual!
DESCRIPTION:Jewish Federation of New Hampshire\nCommunity Calendar\nhttps:/
 /jewishnh.org/community-calendar/jfnh-annual-meeting-virtual\n\nThis year 
 the Jewish Federation of New Hampshire will be holding their Annual Meetin
 g virtually!\n\nJoin us from the comfort of your home as we honor the Jewi
 sh Federation Preschool for 32 years of outstanding service to young child
 ren and families\, celebrate the 2020 Shem Tov Award Recipients\, hear abo
 ut the work JFNH has done throughout the year and what's to come and help 
 us kick off our Annual Campaign! Past Shlicha Noam Wolf will close out the
  program by singing Jerusalem of Gold.\n\nOur...
DTSTART;TZID=America/New_York:20200816T110000
DTEND;TZID=America/New_York:20200816T130000
END:VEVENT
END:VCALENDAR
