BEGIN:VCALENDAR
PRODID:-//eluceo/ical//2.0/EN
VERSION:2.0
CALSCALE:GREGORIAN
BEGIN:VEVENT
UID:36de69100bca1d60b718b12ebabb9484
DTSTAMP:20260424T163109Z
SUMMARY:JFNH Annual Meeting 2022
DESCRIPTION:Jewish Federation of New Hampshire\nCommunity Calendar\nhttps:/
 /jewishnh.org/community-calendar/jfnh-annual-meeting2022\n\nJFNH Annual Me
 eting will be held on Zoom for 2022\n\n 
DTSTART;TZID=America/New_York:20220907T180000
DTEND;TZID=America/New_York:20220907T200000
END:VEVENT
END:VCALENDAR
