BEGIN:VCALENDAR
PRODID:-//eluceo/ical//2.0/EN
VERSION:2.0
CALSCALE:GREGORIAN
BEGIN:VEVENT
UID:aa3a63b70881c7c34ac61b158ac609bc
DTSTAMP:20260424T025834Z
SUMMARY:JFNH Annual Meeting
DESCRIPTION:Jewish Federation of New Hampshire\nCommunity Calendar\nhttps:/
 /jewishnh.org/community-calendar/jfnh-annual-meeting2023\n\nIn person at t
 he Bedford Event Center and Livestreamed\n\nDoors open at 6PM with registr
 ation and a dessert reception.\n\nGuest speaker - Simone Knego\n\nCelebrat
 e the Shem Tov Award Winners\, meet our new Shaliach Guy Ben David\, and h
 ear about Federation's recent accomplishments and our plans for the year a
 head
DTSTART;TZID=America/New_York:20230813T180000
DTEND;TZID=America/New_York:20230813T210000
END:VEVENT
END:VCALENDAR
