BEGIN:VCALENDAR
PRODID:-//eluceo/ical//2.0/EN
VERSION:2.0
CALSCALE:GREGORIAN
BEGIN:VEVENT
UID:cb2445ca6c7d99fc0a94cbf8a892c570
DTSTAMP:20260422T122725Z
SUMMARY:JFNH Board Meeting
DESCRIPTION:Jewish Federation of New Hampshire\nCommunity Calendar\nhttps:/
 /jewishnh.org/community-calendar/jfnh-board-meeting-4-24-18\n\nJFNH Board 
 Meeting
DTSTART;TZID=America/New_York:20180424T000000
DTEND;TZID=America/New_York:20180424T000000
END:VEVENT
END:VCALENDAR
