BEGIN:VCALENDAR
PRODID:-//eluceo/ical//2.0/EN
VERSION:2.0
CALSCALE:GREGORIAN
BEGIN:VEVENT
UID:4dd561dcdbb05cef1c1f545a0e5d1836
DTSTAMP:20260423T103733Z
SUMMARY:JFNH Book Club: Deborah Lipstadt's Antisemitism Here and Now
DESCRIPTION:Jewish Federation of New Hampshire\nCommunity Calendar\nhttps:/
 /jewishnh.org/community-calendar/jfnh-book-club\n\nPlease JFNH's Antisemit
 ism and Diversity Committee for a discussion of Deborah Lipstadt's book A
 ntisemitism Here and Now . The first 24 people to register will receive 
 a free copy of the book\, available for pick-up at the JFNH office.\n\nDeb
 orah Lipstadt's book can be purchased on Barnes and Noble using this link
  https://www.barnesandnoble.com/w/antisemitism-deborah-e-lipstadt/1127921
 635?ean=9780805243376\n\nThe book club discussion will be held at the JFNH
  office in our community room an...
DTSTART;TZID=America/New_York:20240205T110000
DTEND;TZID=America/New_York:20240205T123000
END:VEVENT
END:VCALENDAR
