BEGIN:VCALENDAR
PRODID:-//eluceo/ical//2.0/EN
VERSION:2.0
CALSCALE:GREGORIAN
BEGIN:VEVENT
UID:2f3b2aca18044e3da57cdff5e1059af8
DTSTAMP:20260423T090108Z
SUMMARY:JFNH Book Club  :   Bari Weiss's  How to Fight Anti-Semitism
DESCRIPTION:Jewish Federation of New Hampshire\nCommunity Calendar\nhttps:/
 /jewishnh.org/community-calendar/jfnh-book-club-----bari-weiss--how-to-fig
 ht-anti-semitism-1683909699\n\nPlease join us for a discussion of Bari Wei
 ss's book  How to Fight Antisemitism . The first 20 people to register wil
 l receive a free copy of the book\, available for pick-up at the JFNH offi
 ce.\n\nBari Weiss's book can be purchased on Amazon using this link  https
 ://www.amazon.com/How-Fight-Anti-Semitism-Bari-Weiss/dp/0593136055\n\nThe 
 book club discussion will be held at the JFNH office in our community room
  and will include coffee and pastries.
DTSTART;TZID=America/New_York:20230724T110000
DTEND;TZID=America/New_York:20230724T130000
END:VEVENT
END:VCALENDAR
