BEGIN:VCALENDAR
PRODID:-//eluceo/ical//2.0/EN
VERSION:2.0
CALSCALE:GREGORIAN
BEGIN:VEVENT
UID:402d704149a294e58d29d1dd72f9067a
DTSTAMP:20260423T204921Z
SUMMARY:JFNH Book Club: Noa Tishby's Israel - Dover
DESCRIPTION:Jewish Federation of New Hampshire\nCommunity Calendar\nhttps:/
 /jewishnh.org/community-calendar/jfnh-book-club-noa-tishbys-israel\n\nPlea
 se join us for a discussion of Noa Tishby's book Israel: A Simple Guide t
 o the Most Misunderstood Country on Earth\, facilitated by JFNH Shaliach 
 Ra'anan de Haas. The first 20 people to register will receive a free copy
  of the book\, available for pick-up at the JFNH office! \n\nNoa Tishby's
  Israel can be found on Amazon for purchase here or on Audible here
 \, narrated by the author.\n\n \n\nJune 7th and 8th book club groups will
  be home-hosted by JFNH employees\, including beverag...
DTSTART;TZID=America/New_York:20230607T190000
DTEND;TZID=America/New_York:20230607T210000
END:VEVENT
END:VCALENDAR
