BEGIN:VCALENDAR
PRODID:-//eluceo/ical//2.0/EN
VERSION:2.0
CALSCALE:GREGORIAN
BEGIN:VEVENT
UID:4b5bcdde96ac4151cd988e023fbb34cd
DTSTAMP:20260422T082713Z
SUMMARY:JFNH Book Club: Noa Tishby's Israel - Bedford
DESCRIPTION:Jewish Federation of New Hampshire\nCommunity Calendar\nhttps:/
 /jewishnh.org/community-calendar/jfnh-book-club-noa-tishbys-israel-bedford
 \n\nPlease join us for a discussion of Noa Tishby's book Israel: A Simple
  Guide to the Most Misunderstood Country on Earth\, facilitated by JFNH S
 haliach Ra'anan de Haas. The first 20 people to register will receive a f
 ree copy of the book\, available for pick-up at the JFNH office! \n\nNoa 
 Tishby's Israel can be found on Amazon for purchase here or on Audi
 ble here\, narrated by the author.\n\n \n\nJune 7th and 8th book club gro
 ups will be home-hosted by JFNH employees\, including beverag...
DTSTART;TZID=America/New_York:20230614T110000
DTEND;TZID=America/New_York:20230614T130000
END:VEVENT
END:VCALENDAR
